BEGIN:VCALENDAR
VERSION:2.0
PRODID:EVENTFROG//EVENT//ICAL
BEGIN:VEVENT
UID:20260426T002653Z-7450147244181870252@eventfrog.at
DTSTAMP:20260426T002653Z
DTSTART:20260426T150000Z
DTEND:20260426T163000Z
SUMMARY:Frühjahrskonzert
DESCRIPTION:Frühjahrskonzert mit Instrumental- und Vokalensembles der Sing- und Musikschule im Landkreis Kronach\n\nhttps://eventfrog.at/de/p/konzerte/weitere-musikrichtungen/fruehjahrskonzert-7450147244181870252.html
LOCATION:Kreiskulturraum
GEO:50.234630;11.329080
URL:https://eventfrog.at/de/p/konzerte/weitere-musikrichtungen/fruehjahrskonzert-7450147244181870252.html
END:VEVENT
END:VCALENDAR