BEGIN:VCALENDAR
VERSION:2.0
PRODID:EVENTFROG//EVENT//ICAL
BEGIN:VEVENT
UID:20260421T161530Z-7450141686112485272@eventfrog.at
DTSTAMP:20260421T161530Z
DTSTART:20260527T093000Z
DTEND:20260527T103000Z
SUMMARY:MACH DICH GROSS: Selbstbehauptung mit Körper und Stimme
DESCRIPTION:Juan «Blind-Panda» leitet ein Seminar zur Wirkung von Körperhaltung und Stimmlage am 27.05.2026, 11:30 Uhr.\n\nhttps://eventfrog.at/de/p/gesundheit-spiritualitaet/gesundheit-wohlbefinden/mach-dich-gross-selbstbehauptung-mit-koerper-und-stimme-7450141686112485272.html
LOCATION:Kap Europa, Frankfurt a.M. auf der Sport & Musik-Bühne
GEO:50.109966;8.653981
URL:https://eventfrog.at/de/p/gesundheit-spiritualitaet/gesundheit-wohlbefinden/mach-dich-gross-selbstbehauptung-mit-koerper-und-stimme-7450141686112485272.html
END:VEVENT
END:VCALENDAR