BEGIN:VCALENDAR
VERSION:2.0
PRODID:EVENTFROG//EVENT//ICAL
BEGIN:VEVENT
UID:20260419T220910Z-7450125657969817239@eventfrog.at
DTSTAMP:20260419T220910Z
DTSTART:20260602T173000Z
DTEND:20260602T193000Z
SUMMARY:Ecstatic Dance mit Akustischem Ein & Ausklang
DESCRIPTION:Ecstatic Dance ist eine Tanz Mediation, um mit Anleitung und Inputs  in Kontakt mit deinem Körper zu kommen. Eine Tanzmusik Reise von still bis wild, verspielt, erdend und/ oder sanft. \n\nhttps://eventfrog.at/de/p/festivals/tanz/ecstatic-dance-mit-akustischem-ein-ausklang-7450125657969817239.html
LOCATION:DanceSquare22
GEO:47.393914;8.489070
URL:https://eventfrog.at/de/p/festivals/tanz/ecstatic-dance-mit-akustischem-ein-ausklang-7450125657969817239.html
END:VEVENT
END:VCALENDAR