BEGIN:VCALENDAR
VERSION:2.0
PRODID:EVENTFROG//EVENT//ICAL
BEGIN:VEVENT
UID:20260426T004941Z-7450106392134836826@eventfrog.at
DTSTAMP:20260426T004941Z
DTSTART:20260426T120000Z
DTEND:20260426T130000Z
SUMMARY:Southern Roxx live -  Spargelwanderung Bürstadt - HeimatRock
DESCRIPTION:Southern Roxx – Southern & Classic Rock mit Druck, Groove & Seele.\nWir bringen Rock mit viel Herzblut und echter Spielfreude auf die Bühne.\nWelcome to the hardrockin' Southern Roxx Show! \n\n\nhttps://eventfrog.at/de/p/konzerte/pop-rock/southern-roxx-live-spargelwanderung-buerstadt-heimatrock-7450106392134836826.html
LOCATION:Spargelwanderung Bürstadt | Heimatrock
GEO:49.621900;8.480820
URL:https://eventfrog.at/de/p/konzerte/pop-rock/southern-roxx-live-spargelwanderung-buerstadt-heimatrock-7450106392134836826.html
END:VEVENT
END:VCALENDAR