BEGIN:VCALENDAR
VERSION:2.0
PRODID:EVENTFROG//EVENT//ICAL
BEGIN:VEVENT
UID:20260419T181451Z-7450094833975169005@eventfrog.at
DTSTAMP:20260419T181451Z
DTSTART:20260613T150000Z
DTEND:20260613T190000Z
SUMMARY:Leather & Spritz
DESCRIPTION:Ein entspannter Samstagabend mit Drinks, Musik und kreativem Flow – gestalte dein eigenes Lederpiece, wähle aus verschiedenen Designs und nimm es mit nach Hause.n \n\nhttps://eventfrog.at/de/p/kurse-seminare/kunst-kultur/leather-spritz-7450094833975169005.html
LOCATION:Zürich
URL:https://eventfrog.at/de/p/kurse-seminare/kunst-kultur/leather-spritz-7450094833975169005.html
END:VEVENT
END:VCALENDAR