BEGIN:VCALENDAR
VERSION:2.0
PRODID:EVENTFROG//EVENT//ICAL
BEGIN:VEVENT
UID:20260420T002812Z-7450080140736870054@eventfrog.at
DTSTAMP:20260420T002812Z
DTSTART:20260428T140000Z
DTEND:20260428T145000Z
SUMMARY:English-Playgroup "Show me the world", 3-6 Jahre
DESCRIPTION:Das Show Me The World Programm vermittelt Kindern spielerisch Englisch in Kleingruppen mit altersgerechtem, ganzheitlichem Unterricht.\n\nhttps://eventfrog.at/de/p/kinderveranstaltungen/kurs/english-playgroup-show-me-the-world-3-6-jahre-7450080140736870054.html
LOCATION:Kids&co Familienzentrum
GEO:48.086365;16.247091
URL:https://eventfrog.at/de/p/kinderveranstaltungen/kurs/english-playgroup-show-me-the-world-3-6-jahre-7450080140736870054.html
END:VEVENT
END:VCALENDAR