BEGIN:VCALENDAR
VERSION:2.0
PRODID:EVENTFROG//EVENT//ICAL
BEGIN:VEVENT
UID:20260419T175304Z-7450077663090184346@eventfrog.at
DTSTAMP:20260419T175304Z
DTSTART:20260424T150000Z
DTEND:20260424T180000Z
SUMMARY:Mädels-Flohmarkt
DESCRIPTION:Der Mädels-Flohmarkt in der Uhlandschule Stuttgart bietet am 24.4.2026 von 17 bis 20 Uhr Mode, Schmuck und Bastelaktionen.\n\nhttps://eventfrog.at/de/p/maerkte/flohmarkt/maedels-flohmarkt-7450077663090184346.html
LOCATION:Uhlandschule
GEO:48.830774;9.196041
URL:https://eventfrog.at/de/p/maerkte/flohmarkt/maedels-flohmarkt-7450077663090184346.html
END:VEVENT
END:VCALENDAR