BEGIN:VCALENDAR
VERSION:2.0
PRODID:EVENTFROG//EVENT//ICAL
BEGIN:VEVENT
UID:20260420T013751Z-7449940620523661601@eventfrog.at
DTSTAMP:20260420T013751Z
DTSTART:20260503T153000Z
SUMMARY:Frühlingskonzert Sarastro Quartett
DESCRIPTION:Frühlingskonzert Sarastro Quartett\n\nhttps://eventfrog.at/de/p/konzerte/fruehlingskonzert-sarastro-quartett-7449940620523661601.html
LOCATION:Schloss Kyburg
GEO:47.458328;8.743304
URL:https://eventfrog.at/de/p/konzerte/fruehlingskonzert-sarastro-quartett-7449940620523661601.html
END:VEVENT
END:VCALENDAR