BEGIN:VCALENDAR
VERSION:2.0
PRODID:EVENTFROG//EVENT//ICAL
BEGIN:VEVENT
UID:20260421T130232Z-7449922982489663321@eventfrog.at
DTSTAMP:20260421T130232Z
DTSTART:20260924T170000Z
DTEND:20260924T190000Z
SUMMARY:Geschichte in Tönen
DESCRIPTION:Zwei Stunden mit schwungvoller Musik, Briefen, amüsante Reiseberichten und anderen Texten. Anna Silke Reichwein – Violoncello, Inessa Tsepkova – Klavier und Martin Karl-Wagner - Flöte.\n\nhttps://eventfrog.at/de/p/klassik-opern/klassik/geschichte-in-toenen-7449922982489663321.html
LOCATION:Stadtmuseum Warleberger Hof
GEO:54.324310;10.141043
URL:https://eventfrog.at/de/p/klassik-opern/klassik/geschichte-in-toenen-7449922982489663321.html
END:VEVENT
END:VCALENDAR