BEGIN:VCALENDAR
VERSION:2.0
PRODID:EVENTFROG//EVENT//ICAL
BEGIN:VEVENT
UID:20260420T205338Z-7449917811160256367@eventfrog.at
DTSTAMP:20260420T205338Z
DTSTART:20260611T173000Z
DTEND:20260611T200000Z
SUMMARY:Die Showfenste Varietéshow
DESCRIPTION:Die Showfenster Varietéshow. Künstler werden noch bekannt gegeben.\n\nhttps://eventfrog.at/de/p/theater-buehne/comedy-kabarett/die-showfenste-varieteshow-7449917811160256367.html
LOCATION:Showfenster Theater
GEO:52.563428;13.377549
URL:https://eventfrog.at/de/p/theater-buehne/comedy-kabarett/die-showfenste-varieteshow-7449917811160256367.html
END:VEVENT
END:VCALENDAR