BEGIN:VCALENDAR
VERSION:2.0
PRODID:EVENTFROG//EVENT//ICAL
BEGIN:VEVENT
UID:20260422T083410Z-7449912300180370591@eventfrog.at
DTSTAMP:20260422T083410Z
DTSTART:20260613T130000Z
DTEND:20260613T220000Z
SUMMARY:Laichzeit
DESCRIPTION:Eintägiges Open-Air-Festival mit Workshops, Live Bands, Hip-Hop Artists und DJs.\n\nhttps://eventfrog.at/de/p/festivals/weitere-festivals/laichzeit-7449912300180370591.html
LOCATION:Maria Ruh
GEO:50.135420;7.723338
URL:https://eventfrog.at/de/p/festivals/weitere-festivals/laichzeit-7449912300180370591.html
END:VEVENT
END:VCALENDAR