BEGIN:VCALENDAR
VERSION:2.0
PRODID:EVENTFROG//EVENT//ICAL
BEGIN:VEVENT
UID:20260420T044650Z-7449901675395987685@eventfrog.at
DTSTAMP:20260420T044650Z
DTSTART:20260512T170000Z
DTEND:20260512T200000Z
SUMMARY:9. Mitgliederversammlung Verein Filmfrass
DESCRIPTION:Mitglieder-Event: Statutarische Traktanden, kulinarische und filmische Highlights. \nNicht-Mitglieder können beitreten.\n\nhttps://eventfrog.at/de/p/diverses/9-mitgliederversammlung-verein-filmfrass-7449901675395987685.html
LOCATION:Kino Krone
GEO:47.056231;7.627462
URL:https://eventfrog.at/de/p/diverses/9-mitgliederversammlung-verein-filmfrass-7449901675395987685.html
END:VEVENT
END:VCALENDAR