BEGIN:VCALENDAR
VERSION:2.0
PRODID:EVENTFROG//EVENT//ICAL
BEGIN:VEVENT
UID:20260424T064106Z-7449901382306394378@eventfrog.at
DTSTAMP:20260424T064106Z
DTSTART:20260509T210000Z
DTEND:20260510T020000Z
SUMMARY:REDRUM AT VEGAS
DESCRIPTION:REDRUM bringt DJs SSP, AMARAOTA, JR THE G und LENYOU ab 23 Uhr ins VEGAS!\n\nhttps://eventfrog.at/en/p/parties/hip-hop-rap/redrum-at-vegas-7449901382306394378.html
LOCATION:VEGAS Club Lucerne
GEO:47.024369;8.299714
URL:https://eventfrog.at/en/p/parties/hip-hop-rap/redrum-at-vegas-7449901382306394378.html
END:VEVENT
END:VCALENDAR