BEGIN:VCALENDAR
VERSION:2.0
PRODID:EVENTFROG//EVENT//ICAL
BEGIN:VEVENT
UID:20260424T072527Z-7449884094945564620@eventfrog.at
DTSTAMP:20260424T072527Z
DTSTART:20260613T150000Z
DTEND:20260613T170000Z
SUMMARY:L-danse Spectacle 2026
DESCRIPTION:Spectacle de danse \nL-danse présente Resto'Scène\n\nhttps://eventfrog.at/fr/p/divers/l-danse-spectacle-2026-7449884094945564620.html
LOCATION:CO Sarine Ouest
GEO:46.784888;7.076136
URL:https://eventfrog.at/fr/p/divers/l-danse-spectacle-2026-7449884094945564620.html
END:VEVENT
END:VCALENDAR