BEGIN:VCALENDAR
VERSION:2.0
PRODID:EVENTFROG//EVENT//ICAL
BEGIN:VEVENT
UID:20260424T081220Z-7449879293478354814@eventfrog.at
DTSTAMP:20260424T081220Z
DTSTART:20260613T070000Z
DTEND:20260613T100000Z
SUMMARY:Austausch für Eltern und Angehörige zum Thema Essstörungen
DESCRIPTION:Einmal im Monat treffen sich Angehörige von Essstörung-Betroffenen in Winterthur zum vertraulichen Austausch mit Peer-Expertinnen.\n\nhttps://eventfrog.at/de/p/gesundheit-spiritualitaet/gesundheit-wohlbefinden/austausch-fuer-eltern-und-angehoerige-zum-thema-essstoerungen-7449879293478354814.html
LOCATION:Stiftung Windlicht
GEO:47.500218;8.732858
URL:https://eventfrog.at/de/p/gesundheit-spiritualitaet/gesundheit-wohlbefinden/austausch-fuer-eltern-und-angehoerige-zum-thema-essstoerungen-7449879293478354814.html
END:VEVENT
END:VCALENDAR