BEGIN:VCALENDAR
VERSION:2.0
PRODID:EVENTFROG//EVENT//ICAL
BEGIN:VEVENT
UID:20260420T205344Z-7449871906931504168@eventfrog.at
DTSTAMP:20260420T205344Z
DTSTART:20260530T173000Z
DTEND:20260530T200000Z
SUMMARY:Lennart Schilgen - Lieder vom Schleifen und Schleifen lassen
DESCRIPTION:Lieder vom Schleifen und Schleifen lassen - Der Werkstattabend\n\nhttps://eventfrog.at/de/p/theater-buehne/comedy-kabarett/lennart-schilgen-lieder-vom-schleifen-und-schleifen-lassen-7449871906931504168.html
LOCATION:Showfenster Theater
GEO:52.563428;13.377549
URL:https://eventfrog.at/de/p/theater-buehne/comedy-kabarett/lennart-schilgen-lieder-vom-schleifen-und-schleifen-lassen-7449871906931504168.html
END:VEVENT
END:VCALENDAR