BEGIN:VCALENDAR
VERSION:2.0
PRODID:EVENTFROG//EVENT//ICAL
BEGIN:VEVENT
UID:20260420T191351Z-7449827915619951968@eventfrog.at
DTSTAMP:20260420T191351Z
DTSTART:20260425T170000Z
DTEND:20260425T190000Z
SUMMARY:Ecstatic Dance
DESCRIPTION:Bam-Bou-Büs lädt zu einem achtsamen Ecstatic Dance mit elektronischer Weltmusik ein, ganz ohne Vorgaben und Bewertungen.\n\nhttps://eventfrog.at/de/p/gesundheit-spiritualitaet/gesundheit-wohlbefinden/ecstatic-dance-7449827915619951968.html
LOCATION:Naturheilzentrum Ehrenstraße
GEO:50.938143;6.942439
URL:https://eventfrog.at/de/p/gesundheit-spiritualitaet/gesundheit-wohlbefinden/ecstatic-dance-7449827915619951968.html
END:VEVENT
END:VCALENDAR