BEGIN:VCALENDAR
VERSION:2.0
PRODID:EVENTFROG//EVENT//ICAL
BEGIN:VEVENT
UID:20260424T092517Z-7449815653400185213@eventfrog.at
DTSTAMP:20260424T092517Z
DTSTART:20260805T140000Z
DTEND:20260805T163000Z
SUMMARY:ALS Training - Praktisches Training zur Reanimation Erw.
DESCRIPTION:Interne Fortbildung zu erweiterten Reanimationsmaßnahmen im Klinikum Konstanz für Pflegekräfte und Ärzte verschiedener Abteilungen. Anerkannter Praxisteil der Pflichtfortbildung Reanimation.\n\nhttps://eventfrog.at/de/p/kurse-seminare/berufliche-bildung/als-training-praktisches-training-zur-reanimation-erw-7449815653400185213.html
LOCATION:Konstanzer anästhesiologisches Simulations- und Trainingszentrum (KNaST) Raum B218, im Bereich der ehemaligen ZNA ; Treffpunkt ist die Eingangshalle im Bestandsbau - Klinikum Konstanz
GEO:47.670205;9.187133
URL:https://eventfrog.at/de/p/kurse-seminare/berufliche-bildung/als-training-praktisches-training-zur-reanimation-erw-7449815653400185213.html
END:VEVENT
END:VCALENDAR