BEGIN:VCALENDAR
VERSION:2.0
PRODID:EVENTFROG//EVENT//ICAL
BEGIN:VEVENT
UID:20260419T165203Z-7449814214544232069@eventfrog.at
DTSTAMP:20260419T165203Z
DTSTART:20260426T054500Z
DTEND:20260426T173000Z
SUMMARY:ESN Bern - Jungfraujoch Trip
DESCRIPTION:On April 26, 2026, a day trip from Bern to the Jungfraujoch will take place, including a hike and return journey. Tickets are available from April 19.\n\nhttps://eventfrog.at/en/p/leisure-excursions/trip/esn-bern-jungfraujoch-trip-7449814214544232069.html
LOCATION:Jungfraujoch
GEO:46.548277;7.980643
URL:https://eventfrog.at/en/p/leisure-excursions/trip/esn-bern-jungfraujoch-trip-7449814214544232069.html
END:VEVENT
END:VCALENDAR