BEGIN:VCALENDAR
VERSION:2.0
PRODID:EVENTFROG//EVENT//ICAL
BEGIN:VEVENT
UID:20260419T231150Z-7449804188333129355@eventfrog.at
DTSTAMP:20260419T231150Z
DTSTART:20260423T180000Z
SUMMARY:Kneipenkonzert: Monday’s Eve
DESCRIPTION:Fünf Jungs aus Duisburg spielen funkige Neuinterpretationen von Klassikern mit viel Energie und groovendem Sound.\n\nhttps://eventfrog.at/de/p/konzerte/pop-rock/kneipenkonzert-mondays-eve-7449804188333129355.html
LOCATION:Bollwerk 107, Zum Bollwerk 107, 47441 Moers
GEO:51.451604;6.640815
URL:https://eventfrog.at/de/p/konzerte/pop-rock/kneipenkonzert-mondays-eve-7449804188333129355.html
END:VEVENT
END:VCALENDAR