BEGIN:VCALENDAR
VERSION:2.0
PRODID:EVENTFROG//EVENT//ICAL
BEGIN:VEVENT
UID:20260424T085021Z-7449775453097742796@eventfrog.at
DTSTAMP:20260424T085021Z
DTSTART:20261004T160000Z
DTEND:20261004T173000Z
SUMMARY:Yin & Stimme
DESCRIPTION:Yin Yoga mit Glenda Laila und Kinga kombiniert passive Asanas und Klänge zur Regeneration und emotionalem Gleichgewicht.\n\nhttps://eventfrog.at/de/p/sport-fitness/yoga/yin-stimme-7449775453097742796.html
LOCATION:yoga grenzenlos
GEO:47.654079;9.173242
URL:https://eventfrog.at/de/p/sport-fitness/yoga/yin-stimme-7449775453097742796.html
END:VEVENT
END:VCALENDAR