BEGIN:VCALENDAR
VERSION:2.0
PRODID:EVENTFROG//EVENT//ICAL
BEGIN:VEVENT
UID:20260419T174131Z-7449716827683334051@eventfrog.at
DTSTAMP:20260419T174131Z
DTSTART:20260426T120000Z
DTEND:20260426T143000Z
SUMMARY:Stadtführung »Das jüdische Hamburg«
DESCRIPTION:Die geführte 2,5-stündige Tour enthüllt 3000 Jahre jüdische Geschichte und sichtbare Spuren im historischen Grindelviertel Hamburgs.\n\nhttps://eventfrog.at/de/p/fuehrungen-vortraege/stadtfuehrung/stadtfuehrung-das-juedische-hamburg-7449716827683334051.html
LOCATION:Talmud Tora Schule
GEO:53.568630;9.983680
URL:https://eventfrog.at/de/p/fuehrungen-vortraege/stadtfuehrung/stadtfuehrung-das-juedische-hamburg-7449716827683334051.html
END:VEVENT
END:VCALENDAR