BEGIN:VCALENDAR
VERSION:2.0
PRODID:EVENTFROG//EVENT//ICAL
BEGIN:VEVENT
UID:20260424T122958Z-7449689364022465520@eventfrog.at
DTSTAMP:20260424T122958Z
DTSTART:20260428T160000Z
DTEND:20260428T173000Z
SUMMARY:„Sommer im Heckenrosental“ – Lesung mit Florentine Joop
DESCRIPTION:Florentine Joop liest aus «Sommer im Heckenrosental» über ihre Kindheit in zwei Heimaten und die deutsche Wendezeit.\n\nhttps://eventfrog.at/de/p/theater-buehne/lesung/sommer-im-heckenrosental-lesung-mit-florentine-joop-7449689364022465520.html
LOCATION:Stadtbibliothek Greiz
GEO:50.656104;12.200927
URL:https://eventfrog.at/de/p/theater-buehne/lesung/sommer-im-heckenrosental-lesung-mit-florentine-joop-7449689364022465520.html
END:VEVENT
END:VCALENDAR