BEGIN:VCALENDAR
VERSION:2.0
PRODID:EVENTFROG//EVENT//ICAL
BEGIN:VEVENT
UID:20260421T133626Z-7449537302840243997@eventfrog.at
DTSTAMP:20260421T133626Z
DTSTART:20260506T173000Z
DTEND:20260506T193000Z
SUMMARY:Ostensibles: Of Blind Dates, Breakups, and Bad Decisions
DESCRIPTION:Die Ostensibles präsentieren drei kurze Theaterstücke auf Englisch und dazu Improvisationstheater,\n\nhttps://eventfrog.at/de/p/theater-buehne/theater/ostensibles-of-blind-dates-breakups-and-bad-decisions-7449537302840243997.html
LOCATION:Haus der Jugend
GEO:52.277860;8.039728
URL:https://eventfrog.at/de/p/theater-buehne/theater/ostensibles-of-blind-dates-breakups-and-bad-decisions-7449537302840243997.html
END:VEVENT
END:VCALENDAR