BEGIN:VCALENDAR
VERSION:2.0
PRODID:EVENTFROG//EVENT//ICAL
BEGIN:VEVENT
UID:20260424T072734Z-7449534299773109927@eventfrog.at
DTSTAMP:20260424T072734Z
DTSTART:20260622T150000Z
DTEND:20260630T153000Z
SUMMARY:Sommerkurs 26 Krokodil/Eisbär 2
DESCRIPTION:Die Schwimmschule Amriswil möchte mit einem breiten Kursangebot verschiedenen Altersgruppen das Schwimmen nach der Testreihe von Swimsports schrittweise beibringen.\n\nhttps://eventfrog.at/de/p/kurse-seminare/sonstige-kurse-seminare/sommerkurs-26-krokodil-eisbaer-2-7449534299773109927.html
LOCATION:Schwimmbad Amriswil
GEO:47.543312;9.301194
URL:https://eventfrog.at/de/p/kurse-seminare/sonstige-kurse-seminare/sommerkurs-26-krokodil-eisbaer-2-7449534299773109927.html
END:VEVENT
END:VCALENDAR