BEGIN:VCALENDAR
VERSION:2.0
PRODID:EVENTFROG//EVENT//ICAL
BEGIN:VEVENT
UID:20260424T092436Z-7449526379056469829@eventfrog.at
DTSTAMP:20260424T092436Z
DTSTART:20260616T112000Z
DTEND:20260616T150000Z
SUMMARY:Einfache Wanderung zu Objekten von Paul Gugelmann
DESCRIPTION:Am 16. Juni 2026 führt eine Kunstwanderung zu Paul Gugelmann-Werken, endet im Museum mit Geschichtenerfinden und Verpflegung.\n\nhttps://eventfrog.at/de/p/freizeit-ausfluege/wanderung/einfache-wanderung-zu-objekten-von-paul-gugelmann-7449526379056469829.html
LOCATION:Paul Gugelmann-Museum
GEO:47.371517;8.002505
URL:https://eventfrog.at/de/p/freizeit-ausfluege/wanderung/einfache-wanderung-zu-objekten-von-paul-gugelmann-7449526379056469829.html
END:VEVENT
END:VCALENDAR