BEGIN:VCALENDAR
VERSION:2.0
PRODID:EVENTFROG//EVENT//ICAL
BEGIN:VEVENT
UID:20260420T063336Z-7449501990948741386@eventfrog.at
DTSTAMP:20260420T063336Z
DTSTART:20260502T180000Z
SUMMARY:100% Tanzmusik
DESCRIPTION:Am 02. Mai 2026 wird die Stadthalle am Steintor zur Tanzfläche. Ab 20:00 Uhr sorgt DJ Christian Herrmann für einen Abend ganz im Zeichen der Tanzmusik.\n\nhttps://eventfrog.at/de/p/partys/pop-rock/100-tanzmusik-7449501990948741386.html
LOCATION:Stadthalle am Steintor in Bernau
GEO:52.678771;13.592955
URL:https://eventfrog.at/de/p/partys/pop-rock/100-tanzmusik-7449501990948741386.html
END:VEVENT
END:VCALENDAR