BEGIN:VCALENDAR
VERSION:2.0
PRODID:EVENTFROG//EVENT//ICAL
BEGIN:VEVENT
UID:20260422T142713Z-7449501951656498087@eventfrog.at
DTSTAMP:20260422T142713Z
DTSTART:20260527T120000Z
DTEND:20260527T180000Z
SUMMARY:Brettspieltag im FUNtainment! - Mai
DESCRIPTION:Jeden Mittwoch von 14 bis 20 Uhr lädt das FUNtainment zum kostenlosen Brettspieltag mit klassischem und neuem Spielangebot ein.\n\nhttps://eventfrog.at/de/p/freizeit-ausfluege/gruppen-spiele/brettspieltag-im-funtainment-mai-7449501951656498087.html
LOCATION:FUNtainment Berlin
GEO:52.514541;13.469291
URL:https://eventfrog.at/de/p/freizeit-ausfluege/gruppen-spiele/brettspieltag-im-funtainment-mai-7449501951656498087.html
END:VEVENT
END:VCALENDAR