BEGIN:VCALENDAR
VERSION:2.0
PRODID:EVENTFROG//EVENT//ICAL
BEGIN:VEVENT
UID:20260422T142743Z-7449494041731852479@eventfrog.at
DTSTAMP:20260422T142743Z
DTSTART:20260505T150000Z
DTEND:20260505T180000Z
SUMMARY:Yu-Gi-Oh! OTS Turnier -  Mai
DESCRIPTION:Turnier mit Advanced - Constructed Format, 3 Runden, Anmeldung 16:45 Uhr, OTS-Packs als Preise. Jeder Spieler erhält mindestens ein Pack.\n\nhttps://eventfrog.at/de/p/freizeit-ausfluege/gruppen-spiele/yu-gi-oh-ots-turnier-mai-7449494041731852479.html
LOCATION:FUNtainment Berlin
GEO:52.514541;13.469291
URL:https://eventfrog.at/de/p/freizeit-ausfluege/gruppen-spiele/yu-gi-oh-ots-turnier-mai-7449494041731852479.html
END:VEVENT
END:VCALENDAR