BEGIN:VCALENDAR
VERSION:2.0
PRODID:EVENTFROG//EVENT//ICAL
BEGIN:VEVENT
UID:20260422T142746Z-7449493149251030698@eventfrog.at
DTSTAMP:20260422T142746Z
DTSTART:20260519T150000Z
DTEND:20260519T180000Z
SUMMARY:Yu-Gi-Oh! OTS Turnier -  Mai
DESCRIPTION:Turnier mit Advanced - Constructed Format, 3 Runden, Anmeldung 16:45 Uhr, OTS-Packs als Preise. Jeder Spieler erhält mindestens ein Pack.\n\nhttps://eventfrog.at/de/p/freizeit-ausfluege/gruppen-spiele/yu-gi-oh-ots-turnier-mai-7449493149251030698.html
LOCATION:FUNtainment Berlin
GEO:52.514541;13.469291
URL:https://eventfrog.at/de/p/freizeit-ausfluege/gruppen-spiele/yu-gi-oh-ots-turnier-mai-7449493149251030698.html
END:VEVENT
END:VCALENDAR