BEGIN:VCALENDAR
VERSION:2.0
PRODID:EVENTFROG//EVENT//ICAL
BEGIN:VEVENT
UID:20260419T173058Z-7449469737686299925@eventfrog.at
DTSTAMP:20260419T173058Z
DTSTART:20260607T090000Z
DTEND:20260607T150000Z
SUMMARY:Bunte Meile in Hamburg Barmbek
DESCRIPTION:Straßenfest „Bunte Meile“ in Barmbek-Nord mit nicht-kommerziellem Flohmarkt, Infoständen, kulinarischem Angebot, Musik und Spielaktionen für Kinder\n\nhttps://eventfrog.at/de/p/maerkte/flohmarkt/bunte-meile-in-hamburg-barmbek-7449469737686299925.html
LOCATION:Köster-Stiftung
GEO:53.589907;10.057974
URL:https://eventfrog.at/de/p/maerkte/flohmarkt/bunte-meile-in-hamburg-barmbek-7449469737686299925.html
END:VEVENT
END:VCALENDAR