BEGIN:VCALENDAR
VERSION:2.0
PRODID:EVENTFROG//EVENT//ICAL
BEGIN:VEVENT
UID:20260419T153250Z-7449461010098871741@eventfrog.at
DTSTAMP:20260419T153250Z
DTSTART:20260505T060000Z
DTEND:20260508T180000Z
SUMMARY:Berufsmesse IBLive 26 Grenchen
DESCRIPTION:Industrieberufe LIVE erleben\nDie Berufsmesse IBLive 26 Grenchen ermöglicht direkte Einblicke in Industriefirmen der Region Grenchen. \n\nhttps://eventfrog.at/de/p/wissenschaft-und-technik/berufsmesse-iblive-26-grenchen-7449461010098871741.html
LOCATION:ETA SA Manufacture Lehrwerkstatt Horlogère Suisse
GEO:47.197960;7.394832
URL:https://eventfrog.at/de/p/wissenschaft-und-technik/berufsmesse-iblive-26-grenchen-7449461010098871741.html
END:VEVENT
END:VCALENDAR