BEGIN:VCALENDAR
VERSION:2.0
PRODID:EVENTFROG//EVENT//ICAL
BEGIN:VEVENT
UID:20260421T225028Z-7449456161881850453@eventfrog.at
DTSTAMP:20260421T225028Z
DTSTART:20260423T160000Z
SUMMARY:Tore des Lebens- Ein Blick hinter Kulissen des Profifußballs
DESCRIPTION:Was steckt wirklich hinter dem Profifußball? Lars-Wilhelm Baumgarten liest aus „Tore des Lebens“ – mit Einblicken, die man sonst nicht hört. Mit Special Guest Markus Krösche (Sportdirektor SGE)\n\nhttps://eventfrog.at/de/p/theater-buehne/lesung/tore-des-lebens-ein-blick-hinter-kulissen-des-profifussballs-7449456161881850453.html
LOCATION:Airport Club Frankfurt
GEO:50.045833;8.550483
URL:https://eventfrog.at/de/p/theater-buehne/lesung/tore-des-lebens-ein-blick-hinter-kulissen-des-profifussballs-7449456161881850453.html
END:VEVENT
END:VCALENDAR