BEGIN:VCALENDAR
VERSION:2.0
PRODID:EVENTFROG//EVENT//ICAL
BEGIN:VEVENT
UID:20260424T102200Z-7449452307945650647@eventfrog.at
DTSTAMP:20260424T102200Z
DTSTART:20260529T160000Z
DTEND:20260529T183000Z
SUMMARY:Handlettering Aufbaukurs
DESCRIPTION:Bounce-Lettering, Fauxcalligraphy & Schattierungen\n\nhttps://eventfrog.at/de/p/kurse-seminare/freizeit-hobby/handlettering-aufbaukurs-7449452307945650647.html
LOCATION:Letteria Aarau
GEO:47.392723;8.043369
URL:https://eventfrog.at/de/p/kurse-seminare/freizeit-hobby/handlettering-aufbaukurs-7449452307945650647.html
END:VEVENT
END:VCALENDAR