BEGIN:VCALENDAR
VERSION:2.0
PRODID:EVENTFROG//EVENT//ICAL
BEGIN:VEVENT
UID:20260424T102448Z-7449438777901102947@eventfrog.at
DTSTAMP:20260424T102448Z
DTSTART:20260522T170000Z
DTEND:20260522T190000Z
SUMMARY:Circus Luna in der Schule Uttigen
DESCRIPTION:Aufführungen des Schul-Zirkus im Rahmen der Zirkus-Projektwoche für Familien und Freunde der Schulkinder von Uttigen.\n\nBitte beachten: Es wird keine Parkmöglichkeiten am Schulhaus geben.\n\nhttps://eventfrog.at/de/p/musicals-shows/zirkus/circus-luna-in-der-schule-uttigen-7449438777901102947.html
LOCATION:Schule Uttigen (keine Parkmöglichkeiten am Schulhaus)
GEO:46.795685;7.578624
URL:https://eventfrog.at/de/p/musicals-shows/zirkus/circus-luna-in-der-schule-uttigen-7449438777901102947.html
END:VEVENT
END:VCALENDAR