BEGIN:VCALENDAR
VERSION:2.0
PRODID:EVENTFROG//EVENT//ICAL
BEGIN:VEVENT
UID:20260423T003619Z-7449427739512180063@eventfrog.at
DTSTAMP:20260423T003619Z
DTSTART:20260424T180000Z
DTEND:20260424T200000Z
SUMMARY:MAFFAYpur
DESCRIPTION:Eintrittskarten:	 VVK 26  / Vereinsmitglieder 23  / AK 30  soweit verfügbar \nKartenverkauf:	 Bezirksrathaus Stammheim / Kornwestheimer Str. 5 / Kulturverein@info-stammheim.de oder\nEasy Ticket \n\n \n\nhttps://eventfrog.at/de/p/konzerte/pop-rock/maffaypur-7449427739512180063.html
LOCATION:Turn- und Versammlungshalle Stammheim
GEO:48.850172;9.148561
URL:https://eventfrog.at/de/p/konzerte/pop-rock/maffaypur-7449427739512180063.html
END:VEVENT
END:VCALENDAR