BEGIN:VCALENDAR
VERSION:2.0
PRODID:EVENTFROG//EVENT//ICAL
BEGIN:VEVENT
UID:20260423T155308Z-7449379475995800473@eventfrog.at
DTSTAMP:20260423T155308Z
DTSTART:20260523T190000Z
DTEND:20260524T020000Z
SUMMARY:BRAVO HITS – Die offizielle Party zum Mitsingen mit Video DJ
DESCRIPTION:BRAVO HITS Party in Luzern am 23.05.2026: Hits von 90ern bis heute mit V-DJ Dennis Disco und XXL-Videomix, ab 18 Jahren.\n\nhttps://eventfrog.at/de/p/partys/90-s/bravo-hits-die-offizielle-party-zum-mitsingen-mit-video-dj-7449379475995800473.html
LOCATION:Moderne Bar & Karussell
GEO:47.048440;8.306079
URL:https://eventfrog.at/de/p/partys/90-s/bravo-hits-die-offizielle-party-zum-mitsingen-mit-video-dj-7449379475995800473.html
END:VEVENT
END:VCALENDAR