BEGIN:VCALENDAR
VERSION:2.0
PRODID:EVENTFROG//EVENT//ICAL
BEGIN:VEVENT
UID:20260420T070430Z-7449376077040862994@eventfrog.at
DTSTAMP:20260420T070430Z
DTSTART:20270107T230000Z
DTEND:20270110T170000Z
SUMMARY:Fanreise Biathlon-Weltcup 2027, Ruhpolding
DESCRIPTION:3 Tage Biathlon-Weltcup 2027 in Ruhpolding mit Hotel, Transfer und Kombikarte ab 319 EUR bei TripStar24 buchbar.\n\nhttps://eventfrog.at/de/p/freizeit-ausfluege/eventreisen/fanreise-biathlon-weltcup-2027-ruhpolding-7449376077040862994.html
LOCATION:Chiemgau Arena
GEO:47.714953;12.644090
URL:https://eventfrog.at/de/p/freizeit-ausfluege/eventreisen/fanreise-biathlon-weltcup-2027-ruhpolding-7449376077040862994.html
END:VEVENT
END:VCALENDAR