BEGIN:VCALENDAR
VERSION:2.0
PRODID:EVENTFROG//EVENT//ICAL
BEGIN:VEVENT
UID:20260422T060111Z-7449368982333718409@eventfrog.at
DTSTAMP:20260422T060111Z
DTSTART:20260621T073000Z
DTEND:20260621T093000Z
SUMMARY:Blütenpracht & Kräuterwissen -  Wildkräuterführung im Sommer
DESCRIPTION:Im Juni führt eine erfahrene Kräuterpädagogin durch blühende Heideflächen und erklärt die Wirkung heilender Kräuter.\n\nhttps://eventfrog.at/de/p/fuehrungen-vortraege/fuehrung/bluetenpracht-kraeuterwissen-wildkraeuterfuehrung-im-sommer-7449368982333718409.html
LOCATION:HeideHaus
GEO:48.211149;11.614929
URL:https://eventfrog.at/de/p/fuehrungen-vortraege/fuehrung/bluetenpracht-kraeuterwissen-wildkraeuterfuehrung-im-sommer-7449368982333718409.html
END:VEVENT
END:VCALENDAR