BEGIN:VCALENDAR
VERSION:2.0
PRODID:EVENTFROG//EVENT//ICAL
BEGIN:VEVENT
UID:20260425T163604Z-7449342150427314472@eventfrog.at
DTSTAMP:20260425T163604Z
DTSTART:20260427T160000Z
DTEND:20260427T200000Z
SUMMARY:Nisi-Sauna-Abend
DESCRIPTION:Entspannter Gemeinschaftsabend in idyllischer Umgebung: Schwitzen, entspannen und Energie tanken mit Saunafreunden. Beschränkte Plätze.\n\nhttps://eventfrog.at/de/p/gesundheit-spiritualitaet/wellness/nisi-sauna-abend-7449342150427314472.html
LOCATION:Nisihof
GEO:47.159288;8.095652
URL:https://eventfrog.at/de/p/gesundheit-spiritualitaet/wellness/nisi-sauna-abend-7449342150427314472.html
END:VEVENT
END:VCALENDAR