BEGIN:VCALENDAR
VERSION:2.0
PRODID:EVENTFROG//EVENT//ICAL
BEGIN:VEVENT
UID:20260424T194933Z-7449215102434189155@eventfrog.at
DTSTAMP:20260424T194933Z
DTSTART:20260912T220000Z
DTEND:20260913T215900Z
SUMMARY:Grosse Pilzausstellung
DESCRIPTION:Pilze erleben mit allen Sinnen. Marktstände und Führungen.\n\nhttps://eventfrog.at/de/p/wissenschaft-und-technik/grosse-pilzausstellung-7449215102434189155.html
LOCATION:AULA Gringel
GEO:47.322386;9.412452
URL:https://eventfrog.at/de/p/wissenschaft-und-technik/grosse-pilzausstellung-7449215102434189155.html
END:VEVENT
END:VCALENDAR