BEGIN:VCALENDAR
VERSION:2.0
PRODID:EVENTFROG//EVENT//ICAL
BEGIN:VEVENT
UID:20260422T043030Z-7449151703369143944@eventfrog.at
DTSTAMP:20260422T043030Z
DTSTART:20260919T173000Z
DTEND:20260919T200000Z
SUMMARY:ELIXIER - Caterina Westphal
DESCRIPTION:Caterina Westphal verbindet orchestralen Pop mit Streichquartett und erzählt in 'ELIXIER' von emotionalen Gegensätzen.\n\nhttps://eventfrog.at/de/p/konzerte/pop-rock/elixier-caterina-westphal-7449151703369143944.html
LOCATION:Theater Ost
GEO:52.433614;13.539208
URL:https://eventfrog.at/de/p/konzerte/pop-rock/elixier-caterina-westphal-7449151703369143944.html
END:VEVENT
END:VCALENDAR