BEGIN:VCALENDAR
VERSION:2.0
PRODID:EVENTFROG//EVENT//ICAL
BEGIN:VEVENT
UID:20260419T193324Z-7449097892143362060@eventfrog.at
DTSTAMP:20260419T193324Z
DTSTART:20260422T170000Z
DTEND:20260422T184500Z
SUMMARY:An der Seite Bruno Grönings
DESCRIPTION:Film: An der Seite Bruno Grönings\n\nhttps://eventfrog.at/de/p/gesundheit-spiritualitaet/spiritualitaet/an-der-seite-bruno-groenings-7449097892143362060.html
LOCATION:Online event
URL:https://eventfrog.at/de/p/gesundheit-spiritualitaet/spiritualitaet/an-der-seite-bruno-groenings-7449097892143362060.html
END:VEVENT
END:VCALENDAR