BEGIN:VCALENDAR
VERSION:2.0
PRODID:EVENTFROG//EVENT//ICAL
BEGIN:VEVENT
UID:20260424T035810Z-7449096159618960934@eventfrog.at
DTSTAMP:20260424T035810Z
DTSTART:20260912T173000Z
DTEND:20260912T230000Z
SUMMARY:Duo WeR Jubiläums-Schlagerabend mit Tanz!
DESCRIPTION:Duo WeR lädt anlässlich des 5-jährigen Bestehens zu einem Schlagerabend ein. Mit dabei sind: LIANE,  Reiner Kirsten, KRISS und Agatha Singer!\n\nhttps://eventfrog.at/de/p/festivals/schlager-volksmusik/duo-wer-jubilaeums-schlagerabend-mit-tanz-7449096159618960934.html
LOCATION:Bürgerhaus Maichingen
GEO:48.721890;8.965136
URL:https://eventfrog.at/de/p/festivals/schlager-volksmusik/duo-wer-jubilaeums-schlagerabend-mit-tanz-7449096159618960934.html
END:VEVENT
END:VCALENDAR