BEGIN:VCALENDAR
VERSION:2.0
PRODID:EVENTFROG//EVENT//ICAL
BEGIN:VEVENT
UID:20260420T065033Z-7449082907904241635@eventfrog.at
DTSTAMP:20260420T065033Z
DTSTART:20260512T190000Z
DTEND:20260512T233000Z
SUMMARY:Tuesday Rock in der Belinda mit DJ Dirk!
DESCRIPTION:Der legendäre Belinda Dienstag mit Classic Rock aus den 70ern ist endlich wieder da! Kommt zahlreich und feiert mit verschiedenen DJs.\n\nhttps://eventfrog.at/de/p/partys/pop-rock/tuesday-rock-in-der-belinda-mit-dj-dirk-7449082907904241635.html
LOCATION:Belinda Discothek
GEO:49.004142;9.496766
URL:https://eventfrog.at/de/p/partys/pop-rock/tuesday-rock-in-der-belinda-mit-dj-dirk-7449082907904241635.html
END:VEVENT
END:VCALENDAR