BEGIN:VCALENDAR
VERSION:2.0
PRODID:EVENTFROG//EVENT//ICAL
BEGIN:VEVENT
UID:20260420T065008Z-7449082162043713797@eventfrog.at
DTSTAMP:20260420T065008Z
DTSTART:20260505T190000Z
DTEND:20260505T233000Z
SUMMARY:Tuesday Rock in der Belinda mit DJ Marcus!
DESCRIPTION:Der Belinda Dienstag mit Classic Rock der 70er kehrt nach langer Pause zurück und lädt zum Feiern ein.\n\nhttps://eventfrog.at/de/p/partys/pop-rock/tuesday-rock-in-der-belinda-mit-dj-marcus-7449082162043713797.html
LOCATION:Belinda Discothek
GEO:49.004142;9.496766
URL:https://eventfrog.at/de/p/partys/pop-rock/tuesday-rock-in-der-belinda-mit-dj-marcus-7449082162043713797.html
END:VEVENT
END:VCALENDAR