BEGIN:VCALENDAR
VERSION:2.0
PRODID:EVENTFROG//EVENT//ICAL
BEGIN:VEVENT
UID:20260425T191817Z-7448851266556436566@eventfrog.at
DTSTAMP:20260425T191817Z
DTSTART:20260508T180000Z
DTEND:20260508T184000Z
SUMMARY:Luftmelodien
DESCRIPTION:Luftiges Live-Konzert\n\nhttps://eventfrog.at/de/p/konzerte/luftmelodien-7448851266556436566.html
LOCATION:Improtheater im MoE Museum of Emptiness, Haldenstrasse 5, 9000 St. Gallen, CH
GEO:47.420313;9.372497
URL:https://eventfrog.at/de/p/konzerte/luftmelodien-7448851266556436566.html
END:VEVENT
END:VCALENDAR