BEGIN:VCALENDAR
VERSION:2.0
PRODID:EVENTFROG//EVENT//ICAL
BEGIN:VEVENT
UID:20260424T092436Z-7448653486755973463@eventfrog.at
DTSTAMP:20260424T092436Z
DTSTART:20260510T120000Z
SUMMARY:Picknick inmitten Alpakas
DESCRIPTION:Genieße ein entspanntes Picknick mitten auf der Weide, umgeben von den liebevollen Alpakas.\n\n\nhttps://eventfrog.at/de/p/essen-trinken/picknick-inmitten-alpakas-7448653486755973463.html
LOCATION:Gnöd 5 Alpaka Hof
GEO:47.345556;7.833477
URL:https://eventfrog.at/de/p/essen-trinken/picknick-inmitten-alpakas-7448653486755973463.html
END:VEVENT
END:VCALENDAR