BEGIN:VCALENDAR
VERSION:2.0
PRODID:EVENTFROG//EVENT//ICAL
BEGIN:VEVENT
UID:20260425T231802Z-7448625957437490494@eventfrog.at
DTSTAMP:20260425T231802Z
DTSTART:20260615T170000Z
DTEND:20260615T210000Z
SUMMARY:COSMIC KNOTS — Opening Performance Evening
DESCRIPTION:COSMIC KNOTS opens with a live performance evening at Trafohalle, Bottmingen, inaugurating the exhibition ahead of its public opening at Franck Areal, Basel.\n\n\nhttps://eventfrog.at/en/p/art-exhibitions/culture/cosmic-knots-opening-performance-evening-7448625957437490494.html
LOCATION:Trafohalle
GEO:47.520109;7.568236
URL:https://eventfrog.at/en/p/art-exhibitions/culture/cosmic-knots-opening-performance-evening-7448625957437490494.html
END:VEVENT
END:VCALENDAR