BEGIN:VCALENDAR
VERSION:2.0
PRODID:EVENTFROG//EVENT//ICAL
BEGIN:VEVENT
UID:20260424T021717Z-7448381900341660733@eventfrog.at
DTSTAMP:20260424T021717Z
DTSTART:20260517T080000Z
DTEND:20260517T130000Z
SUMMARY:Tag des Mädchenfußballs 2026
DESCRIPTION:Fußballtraining für alle Erfahrungslevels - Mädchen bis 16 Jahren - Live-Punktspiele\n\nhttps://eventfrog.at/de/p/sport-fitness/fussball/tag-des-maedchenfussballs-2026-7448381900341660733.html
LOCATION:Georg-Sauer-Sportanlage
GEO:49.974871;8.110757
URL:https://eventfrog.at/de/p/sport-fitness/fussball/tag-des-maedchenfussballs-2026-7448381900341660733.html
END:VEVENT
END:VCALENDAR